BEGIN:VCALENDAR
VERSION:2.0
PRODID:concerti//https://www.concerti.de
CALSCALE:GREGORIAN
BEGIN:VTIMEZONE
TZID:Europe/Berlin
X-LIC-LOCATION:Europe/Berlin
BEGIN:DAYLIGHT
TZOFFSETFROM:+0100
TZOFFSETTO:+0200
TZNAME:CEST
DTSTART:19700329T020000
RRULE:FREQ=YEARLY;BYMONTH=3;BYDAY=-1SU
END:DAYLIGHT
BEGIN:STANDARD
TZOFFSETFROM:+0200
TZOFFSETTO:+0100
TZNAME:CET
DTSTART:19701025T030000
RRULE:FREQ=YEARLY;BYMONTH=10;BYDAY=-1SU
END:STANDARD
END:VTIMEZONE
BEGIN:VEVENT
UID:c2073a55e5db053863ee032df2d3f68b
SUMMARY:Mariza (vocals), &amp; band
URL:https://www.concerti.de/termine/mariza-vocals-band-isarphilharmonie-891841/
DTSTART;TZID=Europe/Berlin:20260512T200000
DTEND;TZID=Europe/Berlin:20260512T220000
DESCRIPTION:Interpreten: Mariza (vocals)\, & band \nhttps://www.concerti.de/termine/mariza-vocals-band-isarphilharmonie-891841/
LOCATION:Isarphilharmonie\, Hans-Preißinger-Straße 8\, 81379 München
END:VEVENT
END:VCALENDAR