BEGIN:VCALENDAR
VERSION:2.0
PRODID:concerti//https://www.concerti.de
CALSCALE:GREGORIAN
BEGIN:VTIMEZONE
TZID:Europe/Berlin
X-LIC-LOCATION:Europe/Berlin
BEGIN:DAYLIGHT
TZOFFSETFROM:+0100
TZOFFSETTO:+0200
TZNAME:CEST
DTSTART:19700329T020000
RRULE:FREQ=YEARLY;BYMONTH=3;BYDAY=-1SU
END:DAYLIGHT
BEGIN:STANDARD
TZOFFSETFROM:+0200
TZOFFSETTO:+0100
TZNAME:CET
DTSTART:19701025T030000
RRULE:FREQ=YEARLY;BYMONTH=10;BYDAY=-1SU
END:STANDARD
END:VTIMEZONE
BEGIN:VEVENT
UID:cd345559530925f9777818fe1ed176ab
SUMMARY:Ein tierisches Vergnügen
URL:https://www.concerti.de/termine/ein-tierisches-vergnuegen-891837/
DTSTART;TZID=Europe/Berlin:20260604T193000
DTEND;TZID=Europe/Berlin:20260604T213000
DESCRIPTION:Interpreten: Jonas Müller (Bariton)\, Kammeroper München\, Louis Vandory (Leitung)\, Luise Kinseher (Rezitation) \nProgramm: Werke von Saint-Saëns\, Rimski-Korsakow\, Rossini u. a. \nhttps://www.concerti.de/termine/ein-tierisches-vergnuegen-891837/
LOCATION:Fassboden der Abtei Niederalteich\, Niederalteich
END:VEVENT
END:VCALENDAR