BEGIN:VCALENDAR
VERSION:2.0
PRODID:concerti//https://www.concerti.de
CALSCALE:GREGORIAN
BEGIN:VTIMEZONE
TZID:Europe/Berlin
X-LIC-LOCATION:Europe/Berlin
BEGIN:DAYLIGHT
TZOFFSETFROM:+0100
TZOFFSETTO:+0200
TZNAME:CEST
DTSTART:19700329T020000
RRULE:FREQ=YEARLY;BYMONTH=3;BYDAY=-1SU
END:DAYLIGHT
BEGIN:STANDARD
TZOFFSETFROM:+0200
TZOFFSETTO:+0100
TZNAME:CET
DTSTART:19701025T030000
RRULE:FREQ=YEARLY;BYMONTH=10;BYDAY=-1SU
END:STANDARD
END:VTIMEZONE
BEGIN:VEVENT
UID:8623f1905e9188e01c6110a6ae9f7516
SUMMARY:Martynas Levickis, (Akkordeon), Münchner Kammerorchester, Enrico Onofri (Leitung)
URL:https://www.concerti.de/termine/martynas-levickis-akkordeon-muenchner-kammerorchester-enrico-onofri-leitung-891833/
DTSTART;TZID=Europe/Berlin:20260713T193000
DTEND;TZID=Europe/Berlin:20260713T213000
DESCRIPTION:Interpreten: Martynas Levickis\, (Akkordeon)\, Münchner Kammerorchester\, Enrico Onofri (Leitung) \nProgramm: Mozart: Serenade G-Dur KV 525 „Eine kleine Nachtmusik“\, Piazzolla: Aconcagua\, Paganini: Variationen über die Caprice a-Moll\, Mendelssohn: Sinfonie Nr. 4  A-Dur op. 90 „Italienische“ \nhttps://www.concerti.de/termine/martynas-levickis-akkordeon-muenchner-kammerorchester-enrico-onofri-leitung-891833/
LOCATION:Kulturinsel Wöhrmühle\, Erlangen
END:VEVENT
END:VCALENDAR