BEGIN:VCALENDAR
VERSION:2.0
PRODID:concerti//https://www.concerti.de
CALSCALE:GREGORIAN
BEGIN:VTIMEZONE
TZID:Europe/Berlin
X-LIC-LOCATION:Europe/Berlin
BEGIN:DAYLIGHT
TZOFFSETFROM:+0100
TZOFFSETTO:+0200
TZNAME:CEST
DTSTART:19700329T020000
RRULE:FREQ=YEARLY;BYMONTH=3;BYDAY=-1SU
END:DAYLIGHT
BEGIN:STANDARD
TZOFFSETFROM:+0200
TZOFFSETTO:+0100
TZNAME:CET
DTSTART:19701025T030000
RRULE:FREQ=YEARLY;BYMONTH=10;BYDAY=-1SU
END:STANDARD
END:VTIMEZONE
BEGIN:VEVENT
UID:6b3f2e80f03f032b2322e71bc33b8e96
SUMMARY:Schostakowitsch: Sinfonie Nr. 7 C-Dur op. 60 „Leningrader“
URL:https://www.concerti.de/termine/schostakowitsch-sinfonie-nr-7-c-dur-op-60-leningrader-universitaet-regensburg-891726/
DTSTART;TZID=Europe/Berlin:20261031T193000
DTEND;TZID=Europe/Berlin:20261031T213000
DESCRIPTION:Interpreten: Philharmonisches Orchester Regensburg\, Stefan Veselka (Leitung) \nhttps://www.concerti.de/termine/schostakowitsch-sinfonie-nr-7-c-dur-op-60-leningrader-universitaet-regensburg-891726/
LOCATION:Universität Regensburg (Audimax)\, Albertus-Magnus-Straße 2\, 93053 Regensburg
END:VEVENT
END:VCALENDAR