BEGIN:VCALENDAR
VERSION:2.0
PRODID:concerti//https://www.concerti.de
CALSCALE:GREGORIAN
BEGIN:VTIMEZONE
TZID:Europe/Berlin
X-LIC-LOCATION:Europe/Berlin
BEGIN:DAYLIGHT
TZOFFSETFROM:+0100
TZOFFSETTO:+0200
TZNAME:CEST
DTSTART:19700329T020000
RRULE:FREQ=YEARLY;BYMONTH=3;BYDAY=-1SU
END:DAYLIGHT
BEGIN:STANDARD
TZOFFSETFROM:+0200
TZOFFSETTO:+0100
TZNAME:CET
DTSTART:19701025T030000
RRULE:FREQ=YEARLY;BYMONTH=10;BYDAY=-1SU
END:STANDARD
END:VTIMEZONE
BEGIN:VEVENT
UID:e7dc8284a7c4e5f3ce347bb46e65c8f1
SUMMARY:Wilde: Das Gespenst von Canterville - Familienkonzert
URL:https://www.concerti.de/termine/wilde-das-gespenst-von-canterville-neuhaussaal-891721/
DTSTART;TZID=Europe/Berlin:20261025T100000
DTEND;TZID=Europe/Berlin:20261025T120000
DESCRIPTION:Interpreten: Philharmonisches Orchester Regensburg\, Tom Woods (Leitung)\, Hannah Spielvogel (Moderation) \nhttps://www.concerti.de/termine/wilde-das-gespenst-von-canterville-neuhaussaal-891721/
LOCATION:Neuhaussaal\, Bismarckplatz 7\, 93047 Regensburg
END:VEVENT
END:VCALENDAR