BEGIN:VCALENDAR
VERSION:2.0
PRODID:concerti//https://www.concerti.de
CALSCALE:GREGORIAN
BEGIN:VTIMEZONE
TZID:Europe/Berlin
X-LIC-LOCATION:Europe/Berlin
BEGIN:DAYLIGHT
TZOFFSETFROM:+0100
TZOFFSETTO:+0200
TZNAME:CEST
DTSTART:19700329T020000
RRULE:FREQ=YEARLY;BYMONTH=3;BYDAY=-1SU
END:DAYLIGHT
BEGIN:STANDARD
TZOFFSETFROM:+0200
TZOFFSETTO:+0100
TZNAME:CET
DTSTART:19701025T030000
RRULE:FREQ=YEARLY;BYMONTH=10;BYDAY=-1SU
END:STANDARD
END:VTIMEZONE
BEGIN:VEVENT
UID:c656ef46733b340ceea21b4cd4966246
SUMMARY:Keita Chida (Klavier) - Altmark Festspiele Gut Zichtau
URL:https://www.concerti.de/termine/keita-chida-klavier-891682/
DTSTART;TZID=Europe/Berlin:20260822T170000
DTEND;TZID=Europe/Berlin:20260822T190000
DESCRIPTION:Interpreten: Keita Chida (Klavier) \nProgramm: Liszt: Vallée d’Obermann & Après une lecture du Dante \nhttps://www.concerti.de/termine/keita-chida-klavier-891682/
LOCATION:Musikforum Katharinenkirche Stendal\, Stendal
END:VEVENT
END:VCALENDAR