BEGIN:VCALENDAR
VERSION:2.0
PRODID:concerti//https://www.concerti.de
CALSCALE:GREGORIAN
BEGIN:VTIMEZONE
TZID:Europe/Berlin
X-LIC-LOCATION:Europe/Berlin
BEGIN:DAYLIGHT
TZOFFSETFROM:+0100
TZOFFSETTO:+0200
TZNAME:CEST
DTSTART:19700329T020000
RRULE:FREQ=YEARLY;BYMONTH=3;BYDAY=-1SU
END:DAYLIGHT
BEGIN:STANDARD
TZOFFSETFROM:+0200
TZOFFSETTO:+0100
TZNAME:CET
DTSTART:19701025T030000
RRULE:FREQ=YEARLY;BYMONTH=10;BYDAY=-1SU
END:STANDARD
END:VTIMEZONE
BEGIN:VEVENT
UID:1fa82b844638f223bce6d91b4bd1c6c6
SUMMARY:Die magische Nacht der Sieben Künste - Sächsisches Mozartfest
URL:https://www.concerti.de/termine/die-magische-nacht-der-sieben-kuenste-891656/
DTSTART;TZID=Europe/Berlin:20260627T180000
DTEND;TZID=Europe/Berlin:20260627T200000
DESCRIPTION:Interpreten: Jörg Einert (Orgel)\, Projekt-Kammerorchester\, Michael Schmidt (Leitung) u. a. \nhttps://www.concerti.de/termine/die-magische-nacht-der-sieben-kuenste-891656/
LOCATION:Schloss\, Lichtenwalde
END:VEVENT
END:VCALENDAR