BEGIN:VCALENDAR
VERSION:2.0
PRODID:concerti//https://www.concerti.de
CALSCALE:GREGORIAN
BEGIN:VTIMEZONE
TZID:Europe/Berlin
X-LIC-LOCATION:Europe/Berlin
BEGIN:DAYLIGHT
TZOFFSETFROM:+0100
TZOFFSETTO:+0200
TZNAME:CEST
DTSTART:19700329T020000
RRULE:FREQ=YEARLY;BYMONTH=3;BYDAY=-1SU
END:DAYLIGHT
BEGIN:STANDARD
TZOFFSETFROM:+0200
TZOFFSETTO:+0100
TZNAME:CET
DTSTART:19701025T030000
RRULE:FREQ=YEARLY;BYMONTH=10;BYDAY=-1SU
END:STANDARD
END:VTIMEZONE
BEGIN:VEVENT
UID:6b7430330041283f907df0ecf8b1a9f4
SUMMARY:Ensemble Amadeus, Normann Kästner (Leitung) - Sächsisches Mozartfest
URL:https://www.concerti.de/termine/ensemble-amadeus-normann-kaestner-leitung-891632/
DTSTART;TZID=Europe/Berlin:20260614T170000
DTEND;TZID=Europe/Berlin:20260614T190000
DESCRIPTION:Interpreten: Ensemble Amadeus\, Normann Kästner (Leitung) \nProgramm: Werke von Cimarosa\, Respighi & Marianelli \nhttps://www.concerti.de/termine/ensemble-amadeus-normann-kaestner-leitung-891632/
LOCATION:St. Bartholomäuskirche\, Waldenburg
END:VEVENT
END:VCALENDAR