BEGIN:VCALENDAR
VERSION:2.0
PRODID:concerti//https://www.concerti.de
CALSCALE:GREGORIAN
BEGIN:VTIMEZONE
TZID:Europe/Berlin
X-LIC-LOCATION:Europe/Berlin
BEGIN:DAYLIGHT
TZOFFSETFROM:+0100
TZOFFSETTO:+0200
TZNAME:CEST
DTSTART:19700329T020000
RRULE:FREQ=YEARLY;BYMONTH=3;BYDAY=-1SU
END:DAYLIGHT
BEGIN:STANDARD
TZOFFSETFROM:+0200
TZOFFSETTO:+0100
TZNAME:CET
DTSTART:19701025T030000
RRULE:FREQ=YEARLY;BYMONTH=10;BYDAY=-1SU
END:STANDARD
END:VTIMEZONE
BEGIN:VEVENT
UID:daa6e81d76a0756917607adf71f8d3e5
SUMMARY:CarlSong - Sächsisches Mozartfest
URL:https://www.concerti.de/termine/carlsong-891570/
DTSTART;TZID=Europe/Berlin:20260518T200000
DTEND;TZID=Europe/Berlin:20260518T220000
DESCRIPTION:Interpreten: CarlSong \nProgramm: Werke von Dowland u. a. \nhttps://www.concerti.de/termine/carlsong-891570/
LOCATION:schönherr.fabrik\, Chemnitz
END:VEVENT
END:VCALENDAR