BEGIN:VCALENDAR
VERSION:2.0
PRODID:concerti//https://www.concerti.de
CALSCALE:GREGORIAN
BEGIN:VTIMEZONE
TZID:Europe/Berlin
X-LIC-LOCATION:Europe/Berlin
BEGIN:DAYLIGHT
TZOFFSETFROM:+0100
TZOFFSETTO:+0200
TZNAME:CEST
DTSTART:19700329T020000
RRULE:FREQ=YEARLY;BYMONTH=3;BYDAY=-1SU
END:DAYLIGHT
BEGIN:STANDARD
TZOFFSETFROM:+0200
TZOFFSETTO:+0100
TZNAME:CET
DTSTART:19701025T030000
RRULE:FREQ=YEARLY;BYMONTH=10;BYDAY=-1SU
END:STANDARD
END:VTIMEZONE
BEGIN:VEVENT
UID:9a9551ed4d6f7d765b654d50c04560c8
SUMMARY:Kyumin Park (Violine), Berlin Opera Academy Chamber Orchestra, Matthias Glander (Leitung) - Altmark Festspiele Gut Zichtau
URL:https://www.concerti.de/termine/kyumin-park-violine-berlin-opera-academy-chamber-orchestra-matthias-glander-leitung-891567/
DTSTART;TZID=Europe/Berlin:20260517T170000
DTEND;TZID=Europe/Berlin:20260517T190000
DESCRIPTION:Interpreten: Kyumin Park (Violine)\, Berlin Opera Academy Chamber Orchestra\, Matthias Glander (Leitung) \nProgramm: Seehafer: Selma op. 67\, Dvořák: Streicherserenade E-Dur op. 22\, Vivaldi: Die vier Jahreszeiten op. 8 \nhttps://www.concerti.de/termine/kyumin-park-violine-berlin-opera-academy-chamber-orchestra-matthias-glander-leitung-891567/
LOCATION:Alstomhalle\, Stendal
END:VEVENT
END:VCALENDAR