BEGIN:VCALENDAR
VERSION:2.0
PRODID:concerti//https://www.concerti.de
CALSCALE:GREGORIAN
BEGIN:VTIMEZONE
TZID:Europe/Berlin
X-LIC-LOCATION:Europe/Berlin
BEGIN:DAYLIGHT
TZOFFSETFROM:+0100
TZOFFSETTO:+0200
TZNAME:CEST
DTSTART:19700329T020000
RRULE:FREQ=YEARLY;BYMONTH=3;BYDAY=-1SU
END:DAYLIGHT
BEGIN:STANDARD
TZOFFSETFROM:+0200
TZOFFSETTO:+0100
TZNAME:CET
DTSTART:19701025T030000
RRULE:FREQ=YEARLY;BYMONTH=10;BYDAY=-1SU
END:STANDARD
END:VTIMEZONE
BEGIN:VEVENT
UID:6e83e8570a97b6ddb20c2648ef5533e2
SUMMARY:Philharmonisches Orchester Heidelberg, Junyoung Kim (Leitung) - Heidelberger Schlossfestspiele
URL:https://www.concerti.de/termine/philharmonisches-orchester-heidelberg-junyoung-kim-leitung-schloss-heidelberg-891498/
DTSTART;TZID=Europe/Berlin:20260711T203000
DTEND;TZID=Europe/Berlin:20260711T223000
DESCRIPTION:Interpreten: Philharmonisches Orchester Heidelberg\, Junyoung Kim (Leitung) \nProgramm: Beethoven: Sinfonie Nr. 7 A-Dur op. 92\, Händel: Feuerwerksmusik \nhttps://www.concerti.de/termine/philharmonisches-orchester-heidelberg-junyoung-kim-leitung-schloss-heidelberg-891498/
LOCATION:Schloss Heidelberg\, Schlosshof 1\, 69117 Heidelberg
END:VEVENT
END:VCALENDAR