BEGIN:VCALENDAR
VERSION:2.0
PRODID:concerti//https://www.concerti.de
CALSCALE:GREGORIAN
BEGIN:VTIMEZONE
TZID:Europe/Berlin
X-LIC-LOCATION:Europe/Berlin
BEGIN:DAYLIGHT
TZOFFSETFROM:+0100
TZOFFSETTO:+0200
TZNAME:CEST
DTSTART:19700329T020000
RRULE:FREQ=YEARLY;BYMONTH=3;BYDAY=-1SU
END:DAYLIGHT
BEGIN:STANDARD
TZOFFSETFROM:+0200
TZOFFSETTO:+0100
TZNAME:CET
DTSTART:19701025T030000
RRULE:FREQ=YEARLY;BYMONTH=10;BYDAY=-1SU
END:STANDARD
END:VTIMEZONE
BEGIN:VEVENT
UID:ecd0fafc6c7d9453846694f83f5d5aaa
SUMMARY:Dorothee Oberlinger (Blockflöte), Edin Karamazov (Laute)
URL:https://www.concerti.de/termine/dorothee-oberlinger-blockfloete-edin-karamazov-laute-891193/
DTSTART;TZID=Europe/Berlin:20260712T170000
DTEND;TZID=Europe/Berlin:20260712T190000
DESCRIPTION:Interpreten: Dorothee Oberlinger (Blockflöte)\, Edin Karamazov (Laute) \nProgramm: Werke von Vivaldi & I. Holst \nhttps://www.concerti.de/termine/dorothee-oberlinger-blockfloete-edin-karamazov-laute-891193/
LOCATION:Karmeliterkloster\, Frankfurt (Main)
END:VEVENT
END:VCALENDAR