BEGIN:VCALENDAR
VERSION:2.0
PRODID:concerti//https://www.concerti.de
CALSCALE:GREGORIAN
BEGIN:VTIMEZONE
TZID:Europe/Berlin
X-LIC-LOCATION:Europe/Berlin
BEGIN:DAYLIGHT
TZOFFSETFROM:+0100
TZOFFSETTO:+0200
TZNAME:CEST
DTSTART:19700329T020000
RRULE:FREQ=YEARLY;BYMONTH=3;BYDAY=-1SU
END:DAYLIGHT
BEGIN:STANDARD
TZOFFSETFROM:+0200
TZOFFSETTO:+0100
TZNAME:CET
DTSTART:19701025T030000
RRULE:FREQ=YEARLY;BYMONTH=10;BYDAY=-1SU
END:STANDARD
END:VTIMEZONE
BEGIN:VEVENT
UID:04605c60c55acb328cb43241608221e5
SUMMARY:Michael Shaham (Violine), Sul Yoon (Violoncello), Arne Zeller (Violoncello), Itai Navon (Klavier), Württembergisches Kammerorchester Heilbronn
URL:https://www.concerti.de/termine/michael-shaham-violine-sul-yoon-violoncello-arne-zeller-violoncello-itai-navon-klavier-wuerttembergisches-kammerorchester-heilbronn-casals-forum-kronberg-891116/
DTSTART;TZID=Europe/Berlin:20260627T190000
DTEND;TZID=Europe/Berlin:20260627T210000
DESCRIPTION:Interpreten: Michael Shaham (Violine)\, Sul Yoon (Violoncello)\, Arne Zeller (Violoncello)\, Itai Navon (Klavier)\, Württembergisches Kammerorchester Heilbronn \nProgramm: J. S. Bach: Klavierkonzert A-Dur BWV 1055\, Boccherini: Cellokonzert D-Dur\, Bloch: From Jewish Life\, Kreisler: Violinkonzert im Stile Vivaldis\, Paganini: La Campanella \nhttps://www.concerti.de/termine/michael-shaham-violine-sul-yoon-violoncello-arne-zeller-violoncello-itai-navon-klavier-wuerttembergisches-kammerorchester-heilbronn-casals-forum-kronberg-891116/
LOCATION:Casals Forum Kronberg\, Beethovenpl. 1\, 61476 Kronberg (Taunus)
END:VEVENT
END:VCALENDAR