BEGIN:VCALENDAR
VERSION:2.0
PRODID:concerti//https://www.concerti.de
CALSCALE:GREGORIAN
BEGIN:VTIMEZONE
TZID:Europe/Berlin
X-LIC-LOCATION:Europe/Berlin
BEGIN:DAYLIGHT
TZOFFSETFROM:+0100
TZOFFSETTO:+0200
TZNAME:CEST
DTSTART:19700329T020000
RRULE:FREQ=YEARLY;BYMONTH=3;BYDAY=-1SU
END:DAYLIGHT
BEGIN:STANDARD
TZOFFSETFROM:+0200
TZOFFSETTO:+0100
TZNAME:CET
DTSTART:19701025T030000
RRULE:FREQ=YEARLY;BYMONTH=10;BYDAY=-1SU
END:STANDARD
END:VTIMEZONE
BEGIN:VEVENT
UID:9680efe848898c6147d78ba520fdff87
SUMMARY:Pauline van der Rest (Violine), Mana Oguchi (Klavier)
URL:https://www.concerti.de/termine/pauline-van-der-rest-violine-mana-oguchi-klavier-casals-forum-kronberg-891104/
DTSTART;TZID=Europe/Berlin:20260627T114500
DTEND;TZID=Europe/Berlin:20260627T134500
DESCRIPTION:Interpreten: Pauline van der Rest (Violine)\, Mana Oguchi (Klavier) \nProgramm: Beethoven: Violinsonate Nr. 5 F-Dur op. 24 „Frühling“\, Janáček: Violinsonate\, Ysaÿe: Poème élégiaque op. 12 \nhttps://www.concerti.de/termine/pauline-van-der-rest-violine-mana-oguchi-klavier-casals-forum-kronberg-891104/
LOCATION:Casals Forum Kronberg\, Beethovenpl. 1\, 61476 Kronberg (Taunus)
END:VEVENT
END:VCALENDAR