BEGIN:VCALENDAR
VERSION:2.0
PRODID:concerti//https://www.concerti.de
CALSCALE:GREGORIAN
BEGIN:VTIMEZONE
TZID:Europe/Berlin
X-LIC-LOCATION:Europe/Berlin
BEGIN:DAYLIGHT
TZOFFSETFROM:+0100
TZOFFSETTO:+0200
TZNAME:CEST
DTSTART:19700329T020000
RRULE:FREQ=YEARLY;BYMONTH=3;BYDAY=-1SU
END:DAYLIGHT
BEGIN:STANDARD
TZOFFSETFROM:+0200
TZOFFSETTO:+0100
TZNAME:CET
DTSTART:19701025T030000
RRULE:FREQ=YEARLY;BYMONTH=10;BYDAY=-1SU
END:STANDARD
END:VTIMEZONE
BEGIN:VEVENT
UID:3c0f158a03abb0a866437aa93a5a4f10
SUMMARY:Kammerchor der HfMDK, Studierende der HfMDK (Leitung)
URL:https://www.concerti.de/termine/kammerchor-der-hfmdk-studierende-der-hfmdk-leitung-891084/
DTSTART;TZID=Europe/Berlin:20260625T193000
DTEND;TZID=Europe/Berlin:20260625T213000
DESCRIPTION:Interpreten: Kammerchor der HfMDK\, Studierende der HfMDK (Leitung) \nProgramm: Purcell: My heart is inditing\, Welcome to all the pleasures & Hail\, bright Cecilia\, Britten: Hymn to St. Cecilia \nhttps://www.concerti.de/termine/kammerchor-der-hfmdk-studierende-der-hfmdk-leitung-891084/
LOCATION:HfMDK\, Frankfurt (Main)
END:VEVENT
END:VCALENDAR