BEGIN:VCALENDAR
VERSION:2.0
PRODID:concerti//https://www.concerti.de
CALSCALE:GREGORIAN
BEGIN:VTIMEZONE
TZID:Europe/Berlin
X-LIC-LOCATION:Europe/Berlin
BEGIN:DAYLIGHT
TZOFFSETFROM:+0100
TZOFFSETTO:+0200
TZNAME:CEST
DTSTART:19700329T020000
RRULE:FREQ=YEARLY;BYMONTH=3;BYDAY=-1SU
END:DAYLIGHT
BEGIN:STANDARD
TZOFFSETFROM:+0200
TZOFFSETTO:+0100
TZNAME:CET
DTSTART:19701025T030000
RRULE:FREQ=YEARLY;BYMONTH=10;BYDAY=-1SU
END:STANDARD
END:VTIMEZONE
BEGIN:VEVENT
UID:625dc9b773b62c026f5d09ae7199af70
SUMMARY:Henschel Quartett München, Mitglieder des Klenke Quartett
URL:https://www.concerti.de/termine/henschel-quartett-muenchen-mitglieder-des-klenke-quartett-891081/
DTSTART;TZID=Europe/Berlin:20260624T203000
DTEND;TZID=Europe/Berlin:20260624T223000
DESCRIPTION:Interpreten: Henschel Quartett München\, Mitglieder des Klenke Quartett \nProgramm: Haydn: Streichquartett D-Dur op. 64/5 „Lerchen“\, Beethoven: Streichquartett e-Moll op. 59/2 „Rasumowsky“\, Tschaikowsky: Streichsextett d-Moll op. 70 „Souvenir de Florence“ \nhttps://www.concerti.de/termine/henschel-quartett-muenchen-mitglieder-des-klenke-quartett-891081/
LOCATION:Ehem. Abtei\, Seligenstadt
END:VEVENT
END:VCALENDAR