BEGIN:VCALENDAR
VERSION:2.0
PRODID:concerti//https://www.concerti.de
CALSCALE:GREGORIAN
BEGIN:VTIMEZONE
TZID:Europe/Berlin
X-LIC-LOCATION:Europe/Berlin
BEGIN:DAYLIGHT
TZOFFSETFROM:+0100
TZOFFSETTO:+0200
TZNAME:CEST
DTSTART:19700329T020000
RRULE:FREQ=YEARLY;BYMONTH=3;BYDAY=-1SU
END:DAYLIGHT
BEGIN:STANDARD
TZOFFSETFROM:+0200
TZOFFSETTO:+0100
TZNAME:CET
DTSTART:19701025T030000
RRULE:FREQ=YEARLY;BYMONTH=10;BYDAY=-1SU
END:STANDARD
END:VTIMEZONE
BEGIN:VEVENT
UID:3e9b9610bc19fbcacac9129c0c8d3660
SUMMARY:Daegu Virtuoso Chamber
URL:https://www.concerti.de/termine/daegu-virtuoso-chamber-casals-forum-kronberg-891068/
DTSTART;TZID=Europe/Berlin:20260623T193000
DTEND;TZID=Europe/Berlin:20260623T213000
DESCRIPTION:Interpreten: Daegu Virtuoso Chamber \nProgramm: Han-ki: Koreanische Suite Nr. 3 op. 273 b „Happy Wedding“\, J. S. Bach:\nViolinkonzert a-Moll & Brandenburgisches Konzert\, Piazzolla: Die vier Jahreszeiten u. a. \nhttps://www.concerti.de/termine/daegu-virtuoso-chamber-casals-forum-kronberg-891068/
LOCATION:Casals Forum Kronberg\, Beethovenpl. 1\, 61476 Kronberg (Taunus)
END:VEVENT
END:VCALENDAR