BEGIN:VCALENDAR
VERSION:2.0
PRODID:concerti//https://www.concerti.de
CALSCALE:GREGORIAN
BEGIN:VTIMEZONE
TZID:Europe/Berlin
X-LIC-LOCATION:Europe/Berlin
BEGIN:DAYLIGHT
TZOFFSETFROM:+0100
TZOFFSETTO:+0200
TZNAME:CEST
DTSTART:19700329T020000
RRULE:FREQ=YEARLY;BYMONTH=3;BYDAY=-1SU
END:DAYLIGHT
BEGIN:STANDARD
TZOFFSETFROM:+0200
TZOFFSETTO:+0100
TZNAME:CET
DTSTART:19701025T030000
RRULE:FREQ=YEARLY;BYMONTH=10;BYDAY=-1SU
END:STANDARD
END:VTIMEZONE
BEGIN:VEVENT
UID:66d5079d325101d463886c7574bcbdd9
SUMMARY:Brian Isaacs (Viola), Philharmonisches Orchester Gießen, Florian Ludwig (Leitung) - Preview-Konzert
URL:https://www.concerti.de/termine/brian-isaacs-viola-philharmonisches-orchester-giessen-florian-ludwig-leitung-stadttheater-giessen-891054/
DTSTART;TZID=Europe/Berlin:20260618T193000
DTEND;TZID=Europe/Berlin:20260618T213000
DESCRIPTION:Interpreten: Brian Isaacs (Viola)\, Philharmonisches Orchester Gießen\, Florian Ludwig (Leitung) \nProgramm: Goetz: Ouvertüre zu „Der Widerspenstigen Zähmung“\, Hindemith: Der Schwanendreher\, Schmidt: Sinfonie Nr. 3 A-Dur \nhttps://www.concerti.de/termine/brian-isaacs-viola-philharmonisches-orchester-giessen-florian-ludwig-leitung-stadttheater-giessen-891054/
LOCATION:Stadttheater Gießen\, Südanlage 1\, 35390 Gießen
END:VEVENT
END:VCALENDAR