BEGIN:VCALENDAR
VERSION:2.0
PRODID:concerti//https://www.concerti.de
CALSCALE:GREGORIAN
BEGIN:VTIMEZONE
TZID:Europe/Berlin
X-LIC-LOCATION:Europe/Berlin
BEGIN:DAYLIGHT
TZOFFSETFROM:+0100
TZOFFSETTO:+0200
TZNAME:CEST
DTSTART:19700329T020000
RRULE:FREQ=YEARLY;BYMONTH=3;BYDAY=-1SU
END:DAYLIGHT
BEGIN:STANDARD
TZOFFSETFROM:+0200
TZOFFSETTO:+0100
TZNAME:CET
DTSTART:19701025T030000
RRULE:FREQ=YEARLY;BYMONTH=10;BYDAY=-1SU
END:STANDARD
END:VTIMEZONE
BEGIN:VEVENT
UID:f968ce188fd6366339ea5d3d7f7938f3
SUMMARY:Carlotta Colombo (Sopran), Magherita Maria Sala (Mezzosopran), Staatsorchester Darmstadt, Alessandro Quarta (Leitung), Gernot Wojnarowicz (Moderation) - Barockfest Darmstadt
URL:https://www.concerti.de/termine/carlotta-colombo-sopran-magherita-maria-sala-mezzosopran-staatsorchester-darmstadt-alessandro-quarta-leitung-gernot-wojnarowicz-moderation-staatstheater-darmstadt-891040/
DTSTART;TZID=Europe/Berlin:20260614T110000
DTEND;TZID=Europe/Berlin:20260614T130000
DESCRIPTION:Interpreten: Carlotta Colombo (Sopran)\, Magherita Maria Sala (Mezzosopran)\, Staatsorchester Darmstadt\, Alessandro Quarta (Leitung)\, Gernot Wojnarowicz (Moderation) \nProgramm: Werke von Händel\, Scarlatti & Hasse \nhttps://www.concerti.de/termine/carlotta-colombo-sopran-magherita-maria-sala-mezzosopran-staatsorchester-darmstadt-alessandro-quarta-leitung-gernot-wojnarowicz-moderation-staatstheater-darmstadt-891040/
LOCATION:Staatstheater Darmstadt\, Georg-Büchner-Platz 1\, 64283 Darmstadt
END:VEVENT
END:VCALENDAR