BEGIN:VCALENDAR
VERSION:2.0
PRODID:concerti//https://www.concerti.de
CALSCALE:GREGORIAN
BEGIN:VTIMEZONE
TZID:Europe/Berlin
X-LIC-LOCATION:Europe/Berlin
BEGIN:DAYLIGHT
TZOFFSETFROM:+0100
TZOFFSETTO:+0200
TZNAME:CEST
DTSTART:19700329T020000
RRULE:FREQ=YEARLY;BYMONTH=3;BYDAY=-1SU
END:DAYLIGHT
BEGIN:STANDARD
TZOFFSETFROM:+0200
TZOFFSETTO:+0100
TZNAME:CET
DTSTART:19701025T030000
RRULE:FREQ=YEARLY;BYMONTH=10;BYDAY=-1SU
END:STANDARD
END:VTIMEZONE
BEGIN:VEVENT
UID:4757ed830e093d4e9cf310bb3d227de5
SUMMARY:Sophia Aretz (Flöte), Clara Blessing (Oboe), Swantje Hoffmann (Violine), Barockensemble La Vivezza, Clemens Bosselmann (Leitung)
URL:https://www.concerti.de/termine/sophia-aretz-floete-clara-blessing-oboe-swantje-hoffmann-violine-barockensemble-la-vivezza-clemens-bosselmann-leitung-891020/
DTSTART;TZID=Europe/Berlin:20260613T193000
DTEND;TZID=Europe/Berlin:20260613T213000
DESCRIPTION:Interpreten: Sophia Aretz (Flöte)\, Clara Blessing (Oboe)\, Swantje Hoffmann (Violine)\, Barockensemble La Vivezza\, Clemens Bosselmann (Leitung) \nProgramm: Lebrun: Oboenkonzert d-Moll\, Sirmen: Violinkonzert Nr. 3 A-Dur\, Mozart: Flötenkonzert G-Dur \nhttps://www.concerti.de/termine/sophia-aretz-floete-clara-blessing-oboe-swantje-hoffmann-violine-barockensemble-la-vivezza-clemens-bosselmann-leitung-891020/
LOCATION:Christophoruskirche\, Wiesbaden
END:VEVENT
END:VCALENDAR