BEGIN:VCALENDAR
VERSION:2.0
PRODID:concerti//https://www.concerti.de
CALSCALE:GREGORIAN
BEGIN:VTIMEZONE
TZID:Europe/Berlin
X-LIC-LOCATION:Europe/Berlin
BEGIN:DAYLIGHT
TZOFFSETFROM:+0100
TZOFFSETTO:+0200
TZNAME:CEST
DTSTART:19700329T020000
RRULE:FREQ=YEARLY;BYMONTH=3;BYDAY=-1SU
END:DAYLIGHT
BEGIN:STANDARD
TZOFFSETFROM:+0200
TZOFFSETTO:+0100
TZNAME:CET
DTSTART:19701025T030000
RRULE:FREQ=YEARLY;BYMONTH=10;BYDAY=-1SU
END:STANDARD
END:VTIMEZONE
BEGIN:VEVENT
UID:3bfe2de47decba158d39e5861d90344c
SUMMARY:Oberon Trio
URL:https://www.concerti.de/termine/oberon-trio-891017/
DTSTART;TZID=Europe/Berlin:20260613T180000
DTEND;TZID=Europe/Berlin:20260613T200000
DESCRIPTION:Interpreten: Oberon Trio \nProgramm: Mendelssohn: Trio c-Moll op. 66\, Bray: Those Secret Eyes & That Crazed Smile\, Schubert: Trio B-Dur op. 99 \nhttps://www.concerti.de/termine/oberon-trio-891017/
LOCATION:Landgrafenschloss\, Marburg
END:VEVENT
END:VCALENDAR