BEGIN:VCALENDAR
VERSION:2.0
PRODID:concerti//https://www.concerti.de
CALSCALE:GREGORIAN
BEGIN:VTIMEZONE
TZID:Europe/Berlin
X-LIC-LOCATION:Europe/Berlin
BEGIN:DAYLIGHT
TZOFFSETFROM:+0100
TZOFFSETTO:+0200
TZNAME:CEST
DTSTART:19700329T020000
RRULE:FREQ=YEARLY;BYMONTH=3;BYDAY=-1SU
END:DAYLIGHT
BEGIN:STANDARD
TZOFFSETFROM:+0200
TZOFFSETTO:+0100
TZNAME:CET
DTSTART:19701025T030000
RRULE:FREQ=YEARLY;BYMONTH=10;BYDAY=-1SU
END:STANDARD
END:VTIMEZONE
BEGIN:VEVENT
UID:e541baf3e81d299055462956739608cd
SUMMARY:Sergey Malov (Violine, Violoncello &amp; Klavier)
URL:https://www.concerti.de/termine/sergey-malov-violine-violoncello-klavier-891010/
DTSTART;TZID=Europe/Berlin:20260612T180000
DTEND;TZID=Europe/Berlin:20260612T200000
DESCRIPTION:Interpreten: Sergey Malov (Violine\, Violoncello & Klavier) \nProgramm: J. S. Bach: Inventionen (Auswahl)\, Suiten Nr. 1 G-Dur BWV 1007 & Nr. 6 D-Dur BWV 1012\, Bartók: Violinsonate & Mikrokosmos (Auswahl) \nhttps://www.concerti.de/termine/sergey-malov-violine-violoncello-klavier-891010/
LOCATION:Landgrafenschloss\, Marburg
END:VEVENT
END:VCALENDAR