BEGIN:VCALENDAR
VERSION:2.0
PRODID:concerti//https://www.concerti.de
CALSCALE:GREGORIAN
BEGIN:VTIMEZONE
TZID:Europe/Berlin
X-LIC-LOCATION:Europe/Berlin
BEGIN:DAYLIGHT
TZOFFSETFROM:+0100
TZOFFSETTO:+0200
TZNAME:CEST
DTSTART:19700329T020000
RRULE:FREQ=YEARLY;BYMONTH=3;BYDAY=-1SU
END:DAYLIGHT
BEGIN:STANDARD
TZOFFSETFROM:+0200
TZOFFSETTO:+0100
TZNAME:CET
DTSTART:19701025T030000
RRULE:FREQ=YEARLY;BYMONTH=10;BYDAY=-1SU
END:STANDARD
END:VTIMEZONE
BEGIN:VEVENT
UID:637705c1879553b055dee8bf65c0c7a8
SUMMARY:Kammerchor der Motettenvespern, ​Clemens Bosselmann (Orgel &amp; Leitung)
URL:https://www.concerti.de/termine/kammerchor-der-motettenvespern-clemens-bosselmann-orgel-leitung-890983/
DTSTART;TZID=Europe/Berlin:20260607T163000
DTEND;TZID=Europe/Berlin:20260607T183000
DESCRIPTION:Interpreten: Kammerchor der Motettenvespern\, ​Clemens Bosselmann (Orgel & Leitung) \nProgramm: Werke von Brahms\, Schütz\, Kodály\, Schein & Distler \nhttps://www.concerti.de/termine/kammerchor-der-motettenvespern-clemens-bosselmann-orgel-leitung-890983/
LOCATION:Marktkirche\, Wiesbaden
END:VEVENT
END:VCALENDAR