BEGIN:VCALENDAR
VERSION:2.0
PRODID:concerti//https://www.concerti.de
CALSCALE:GREGORIAN
BEGIN:VTIMEZONE
TZID:Europe/Berlin
X-LIC-LOCATION:Europe/Berlin
BEGIN:DAYLIGHT
TZOFFSETFROM:+0100
TZOFFSETTO:+0200
TZNAME:CEST
DTSTART:19700329T020000
RRULE:FREQ=YEARLY;BYMONTH=3;BYDAY=-1SU
END:DAYLIGHT
BEGIN:STANDARD
TZOFFSETFROM:+0200
TZOFFSETTO:+0100
TZNAME:CET
DTSTART:19701025T030000
RRULE:FREQ=YEARLY;BYMONTH=10;BYDAY=-1SU
END:STANDARD
END:VTIMEZONE
BEGIN:VEVENT
UID:3bad67bc2abd9c310cc9bf58b5b7f103
SUMMARY:Alexander Chance (Countertenor), Freiburger Barockorchester - Barockfest Darmstadt
URL:https://www.concerti.de/termine/alexander-chance-countertenor-freiburger-barockorchester-staatstheater-darmstadt-890971/
DTSTART;TZID=Europe/Berlin:20260605T200000
DTEND;TZID=Europe/Berlin:20260605T220000
DESCRIPTION:Interpreten: Alexander Chance (Countertenor)\, Freiburger Barockorchester \nProgramm: Werke von Vivaldi\, Corelli & Locatelli \nhttps://www.concerti.de/termine/alexander-chance-countertenor-freiburger-barockorchester-staatstheater-darmstadt-890971/
LOCATION:Staatstheater Darmstadt\, Georg-Büchner-Platz 1\, 64283 Darmstadt
END:VEVENT
END:VCALENDAR