BEGIN:VCALENDAR
VERSION:2.0
PRODID:concerti//https://www.concerti.de
CALSCALE:GREGORIAN
BEGIN:VTIMEZONE
TZID:Europe/Berlin
X-LIC-LOCATION:Europe/Berlin
BEGIN:DAYLIGHT
TZOFFSETFROM:+0100
TZOFFSETTO:+0200
TZNAME:CEST
DTSTART:19700329T020000
RRULE:FREQ=YEARLY;BYMONTH=3;BYDAY=-1SU
END:DAYLIGHT
BEGIN:STANDARD
TZOFFSETFROM:+0200
TZOFFSETTO:+0100
TZNAME:CET
DTSTART:19701025T030000
RRULE:FREQ=YEARLY;BYMONTH=10;BYDAY=-1SU
END:STANDARD
END:VTIMEZONE
BEGIN:VEVENT
UID:e3450cee04a53eebc2ed6f006338a2c4
SUMMARY:Benatzky: Im weißen Rössl - Oper Oder Spree
URL:https://www.concerti.de/termine/benatzky-im-weissen-roessl-890948/
DTSTART;TZID=Europe/Berlin:20260820T200000
DTEND;TZID=Europe/Berlin:20260820T220000
DESCRIPTION:https://www.concerti.de/termine/benatzky-im-weissen-roessl-890948/
LOCATION:Kloster\, Neuzelle
END:VEVENT
END:VCALENDAR