BEGIN:VCALENDAR
VERSION:2.0
PRODID:concerti//https://www.concerti.de
CALSCALE:GREGORIAN
BEGIN:VTIMEZONE
TZID:Europe/Berlin
X-LIC-LOCATION:Europe/Berlin
BEGIN:DAYLIGHT
TZOFFSETFROM:+0100
TZOFFSETTO:+0200
TZNAME:CEST
DTSTART:19700329T020000
RRULE:FREQ=YEARLY;BYMONTH=3;BYDAY=-1SU
END:DAYLIGHT
BEGIN:STANDARD
TZOFFSETFROM:+0200
TZOFFSETTO:+0100
TZNAME:CET
DTSTART:19701025T030000
RRULE:FREQ=YEARLY;BYMONTH=10;BYDAY=-1SU
END:STANDARD
END:VTIMEZONE
BEGIN:VEVENT
UID:ac13451d2f99679d70c5d1ea39800d2d
SUMMARY:Amore, pasta, vino e basta! - Oper Oder Spree
URL:https://www.concerti.de/termine/amore-pasta-vino-e-basta-890944/
DTSTART;TZID=Europe/Berlin:20260711T200000
DTEND;TZID=Europe/Berlin:20260711T220000
DESCRIPTION:Interpreten: Laurenzia Kampa (Sopran)\, Rahela Ujevic (Sopran)\, Ana Vidmar (Mezzosporan)\, Martin Trømborg (Tenor/Bariton)\, Daniel Wendler (Bassbariton)\, Evgeny Nikiforov (Leitung) \nhttps://www.concerti.de/termine/amore-pasta-vino-e-basta-890944/
LOCATION:Kloster\, Neuzelle
END:VEVENT
END:VCALENDAR