BEGIN:VCALENDAR
VERSION:2.0
PRODID:concerti//https://www.concerti.de
CALSCALE:GREGORIAN
BEGIN:VTIMEZONE
TZID:Europe/Berlin
X-LIC-LOCATION:Europe/Berlin
BEGIN:DAYLIGHT
TZOFFSETFROM:+0100
TZOFFSETTO:+0200
TZNAME:CEST
DTSTART:19700329T020000
RRULE:FREQ=YEARLY;BYMONTH=3;BYDAY=-1SU
END:DAYLIGHT
BEGIN:STANDARD
TZOFFSETFROM:+0200
TZOFFSETTO:+0100
TZNAME:CET
DTSTART:19701025T030000
RRULE:FREQ=YEARLY;BYMONTH=10;BYDAY=-1SU
END:STANDARD
END:VTIMEZONE
BEGIN:VEVENT
UID:ea9938ac565df3c3b3a894781adce556
SUMMARY:Susanne Ehrhardt (Klarinette &amp; Blockflöte), Miroslav Tybora (Akkordeon) - Lindower Sommermusiken: Abschlusskonzert
URL:https://www.concerti.de/termine/susanne-ehrhardt-klarinette-blockfloete-miroslav-tybora-akkordeon-890862/
DTSTART;TZID=Europe/Berlin:20260829T200000
DTEND;TZID=Europe/Berlin:20260829T220000
DESCRIPTION:Interpreten: Susanne Ehrhardt (Klarinette & Blockflöte)\, Miroslav Tybora (Akkordeon) \nProgramm: Werke von Tschaikowsky\, Ruckgaber\, Rimski-Korsakow & Mussorgsky \nhttps://www.concerti.de/termine/susanne-ehrhardt-klarinette-blockfloete-miroslav-tybora-akkordeon-890862/
LOCATION:Stadtkirche\, Lindow
END:VEVENT
END:VCALENDAR