BEGIN:VCALENDAR
VERSION:2.0
PRODID:concerti//https://www.concerti.de
CALSCALE:GREGORIAN
BEGIN:VTIMEZONE
TZID:Europe/Berlin
X-LIC-LOCATION:Europe/Berlin
BEGIN:DAYLIGHT
TZOFFSETFROM:+0100
TZOFFSETTO:+0200
TZNAME:CEST
DTSTART:19700329T020000
RRULE:FREQ=YEARLY;BYMONTH=3;BYDAY=-1SU
END:DAYLIGHT
BEGIN:STANDARD
TZOFFSETFROM:+0200
TZOFFSETTO:+0100
TZNAME:CET
DTSTART:19701025T030000
RRULE:FREQ=YEARLY;BYMONTH=10;BYDAY=-1SU
END:STANDARD
END:VTIMEZONE
BEGIN:VEVENT
UID:b98f71e39e6d40ebf8fc3f5104390cd4
SUMMARY:Iris Lenz (Orgel), Carsten Lenz (Orgel) - Lindower Sommermusiken
URL:https://www.concerti.de/termine/iris-lenz-orgel-carsten-lenz-orgel-890850/
DTSTART;TZID=Europe/Berlin:20260801T200000
DTEND;TZID=Europe/Berlin:20260801T220000
DESCRIPTION:Interpreten: Iris Lenz (Orgel)\, Carsten Lenz (Orgel) \nProgramm: Mozart: Eine kleine Nachtmusik\, Orgelfantasie KV 594\,\nTürkischer Marsch u. a. \nhttps://www.concerti.de/termine/iris-lenz-orgel-carsten-lenz-orgel-890850/
LOCATION:Stadtkirche\, Lindow
END:VEVENT
END:VCALENDAR