BEGIN:VCALENDAR
VERSION:2.0
PRODID:concerti//https://www.concerti.de
CALSCALE:GREGORIAN
BEGIN:VTIMEZONE
TZID:Europe/Berlin
X-LIC-LOCATION:Europe/Berlin
BEGIN:DAYLIGHT
TZOFFSETFROM:+0100
TZOFFSETTO:+0200
TZNAME:CEST
DTSTART:19700329T020000
RRULE:FREQ=YEARLY;BYMONTH=3;BYDAY=-1SU
END:DAYLIGHT
BEGIN:STANDARD
TZOFFSETFROM:+0200
TZOFFSETTO:+0100
TZNAME:CET
DTSTART:19701025T030000
RRULE:FREQ=YEARLY;BYMONTH=10;BYDAY=-1SU
END:STANDARD
END:VTIMEZONE
BEGIN:VEVENT
UID:7654afff3259dafa634f31c3a7a53f50
SUMMARY:Tango &#8211; 10 Jahre Conexus - Lindower Sommermusiken
URL:https://www.concerti.de/termine/tango-10-jahre-conexus-890838/
DTSTART;TZID=Europe/Berlin:20260704T200000
DTEND;TZID=Europe/Berlin:20260704T220000
DESCRIPTION:Interpreten: Tabea Höfer (Violine)\, Marek Stawniak (Akkordeon) \nProgramm: Werke von Piazzolla\, Granados\, Falla\, Strawinsky\, J. S. Bach u. a. \nhttps://www.concerti.de/termine/tango-10-jahre-conexus-890838/
LOCATION:Stadtkirche\, Lindow
END:VEVENT
END:VCALENDAR