BEGIN:VCALENDAR
VERSION:2.0
PRODID:concerti//https://www.concerti.de
CALSCALE:GREGORIAN
BEGIN:VTIMEZONE
TZID:Europe/Berlin
X-LIC-LOCATION:Europe/Berlin
BEGIN:DAYLIGHT
TZOFFSETFROM:+0100
TZOFFSETTO:+0200
TZNAME:CEST
DTSTART:19700329T020000
RRULE:FREQ=YEARLY;BYMONTH=3;BYDAY=-1SU
END:DAYLIGHT
BEGIN:STANDARD
TZOFFSETFROM:+0200
TZOFFSETTO:+0100
TZNAME:CET
DTSTART:19701025T030000
RRULE:FREQ=YEARLY;BYMONTH=10;BYDAY=-1SU
END:STANDARD
END:VTIMEZONE
BEGIN:VEVENT
UID:277d30619d452e93507373d524671d86
SUMMARY:Abschlusskonzert - Intonations Festival
URL:https://www.concerti.de/termine/abschlusskonzert-890829/
DTSTART;TZID=Europe/Berlin:20260614T193000
DTEND;TZID=Europe/Berlin:20260614T213000
DESCRIPTION:Interpreten: Astrig Siranossian (Gesang & Violoncello)\, Boris Brovtsyn (Violine)\,  Tatiana Samouil\, (Violine)\, Marc Bouchkov (Violine)\, Kathrin Rabus (Violine)\, Lir Vaginsky (Violine)\, Madeleine Carruzzo (Violine)\, Yulia Deyneka (Viola)\, Joaquin Garcia Riquelme (Viola)\, Adrien La Marca (Viola)\, Andrei Ionita (Violoncello)\,  Tim Park (Violoncello)\, Elena Bashkirova (Klavier)\, Martha Argerich (Klavier) \nProgramm: Ausgewählte Armenische Volkslieder\, Schumann: Märchenbilder op. 113\, Beethoven: Violinsonaten Nr. 7 c-Moll op. 30/2 & Nr. 2 D-Dur op. 12/2\, Mendelssohn: Streichoktett Es-Dur op. 20 \nhttps://www.concerti.de/termine/abschlusskonzert-890829/
LOCATION:Kühlhaus\, Berlin
END:VEVENT
END:VCALENDAR