BEGIN:VCALENDAR
VERSION:2.0
PRODID:concerti//https://www.concerti.de
CALSCALE:GREGORIAN
BEGIN:VTIMEZONE
TZID:Europe/Berlin
X-LIC-LOCATION:Europe/Berlin
BEGIN:DAYLIGHT
TZOFFSETFROM:+0100
TZOFFSETTO:+0200
TZNAME:CEST
DTSTART:19700329T020000
RRULE:FREQ=YEARLY;BYMONTH=3;BYDAY=-1SU
END:DAYLIGHT
BEGIN:STANDARD
TZOFFSETFROM:+0200
TZOFFSETTO:+0100
TZNAME:CET
DTSTART:19701025T030000
RRULE:FREQ=YEARLY;BYMONTH=10;BYDAY=-1SU
END:STANDARD
END:VTIMEZONE
BEGIN:VEVENT
UID:a5be720c85fd270fac5e8e788c047e2d
SUMMARY:Stadtmusik Zürich, StadtJugendMusik Zürich, Niki Wüthrich (Leitung), Christian Noth (Leitung)
URL:https://www.concerti.de/termine/stadtmusik-zuerich-stadtjugendmusik-zuerich-niki-wuethrich-leitung-christian-noth-leitung-tonhalle-zuerich-890726/
DTSTART;TZID=Europe/Berlin:20260531T183000
DTEND;TZID=Europe/Berlin:20260531T203000
DESCRIPTION:Interpreten: Stadtmusik Zürich\, StadtJugendMusik Zürich\, Niki Wüthrich (Leitung)\, Christian Noth (Leitung) \nProgramm: Deleruyelle: Compostela\,  Yagisawa: Machu Picchu – City in the Sky\, Appermont: Trencadís\, Trachsel: Metamorphosis – Symphony in one mouvement\, Navarro: Cumbre Alta \nhttps://www.concerti.de/termine/stadtmusik-zuerich-stadtjugendmusik-zuerich-niki-wuethrich-leitung-christian-noth-leitung-tonhalle-zuerich-890726/
LOCATION:Tonhalle Zürich\, Claridenstrasse 7\, 8002 Zürich
END:VEVENT
END:VCALENDAR