BEGIN:VCALENDAR
VERSION:2.0
PRODID:concerti//https://www.concerti.de
CALSCALE:GREGORIAN
BEGIN:VTIMEZONE
TZID:Europe/Berlin
X-LIC-LOCATION:Europe/Berlin
BEGIN:DAYLIGHT
TZOFFSETFROM:+0100
TZOFFSETTO:+0200
TZNAME:CEST
DTSTART:19700329T020000
RRULE:FREQ=YEARLY;BYMONTH=3;BYDAY=-1SU
END:DAYLIGHT
BEGIN:STANDARD
TZOFFSETFROM:+0200
TZOFFSETTO:+0100
TZNAME:CET
DTSTART:19701025T030000
RRULE:FREQ=YEARLY;BYMONTH=10;BYDAY=-1SU
END:STANDARD
END:VTIMEZONE
BEGIN:VEVENT
UID:8a2ea10c09da8c9ddc93e3174fe3f1e0
SUMMARY:Xiaoming Wang (Violine), Akademisches Orchester Zürich, Lukas Meister (Leitung)
URL:https://www.concerti.de/termine/xiaoming-wang-violine-akademisches-orchester-zuerich-lukas-meister-leitung-tonhalle-zuerich-890715/
DTSTART;TZID=Europe/Berlin:20260513T193000
DTEND;TZID=Europe/Berlin:20260513T213000
DESCRIPTION:Interpreten: Xiaoming Wang (Violine)\, Akademisches Orchester Zürich\, Lukas Meister (Leitung) \nProgramm: Wagner: Ouvertüre zu „Tannhäuser“\, Glasunow: Violinkonzert a-Moll op. 82\, Schostakowitsch: Sinfonie Nr. 5 d-Moll op. 47 \nhttps://www.concerti.de/termine/xiaoming-wang-violine-akademisches-orchester-zuerich-lukas-meister-leitung-tonhalle-zuerich-890715/
LOCATION:Tonhalle Zürich\, Claridenstrasse 7\, 8002 Zürich
END:VEVENT
END:VCALENDAR