BEGIN:VCALENDAR
VERSION:2.0
PRODID:concerti//https://www.concerti.de
CALSCALE:GREGORIAN
BEGIN:VTIMEZONE
TZID:Europe/Berlin
X-LIC-LOCATION:Europe/Berlin
BEGIN:DAYLIGHT
TZOFFSETFROM:+0100
TZOFFSETTO:+0200
TZNAME:CEST
DTSTART:19700329T020000
RRULE:FREQ=YEARLY;BYMONTH=3;BYDAY=-1SU
END:DAYLIGHT
BEGIN:STANDARD
TZOFFSETFROM:+0200
TZOFFSETTO:+0100
TZNAME:CET
DTSTART:19701025T030000
RRULE:FREQ=YEARLY;BYMONTH=10;BYDAY=-1SU
END:STANDARD
END:VTIMEZONE
BEGIN:VEVENT
UID:5ebb4c236d35581bfc8b2536f7bab3b8
SUMMARY:Orchester der Züicher Hochschule der Künste, Pierre-André Valade (Leitung)
URL:https://www.concerti.de/termine/orchester-der-zueicher-hochschule-der-kuenste-pierre-andre-valade-leitung-tonhalle-zuerich-890702/
DTSTART;TZID=Europe/Berlin:20260425T193000
DTEND;TZID=Europe/Berlin:20260425T213000
DESCRIPTION:Interpreten: Orchester der Züicher Hochschule der Künste\, Pierre-André Valade (Leitung) \nProgramm: Gérard Grisey: Les espaces acoustiques\, \nhttps://www.concerti.de/termine/orchester-der-zueicher-hochschule-der-kuenste-pierre-andre-valade-leitung-tonhalle-zuerich-890702/
LOCATION:Tonhalle Zürich\, Claridenstrasse 7\, 8002 Zürich
END:VEVENT
END:VCALENDAR