BEGIN:VCALENDAR
VERSION:2.0
PRODID:concerti//https://www.concerti.de
CALSCALE:GREGORIAN
BEGIN:VTIMEZONE
TZID:Europe/Berlin
X-LIC-LOCATION:Europe/Berlin
BEGIN:DAYLIGHT
TZOFFSETFROM:+0100
TZOFFSETTO:+0200
TZNAME:CEST
DTSTART:19700329T020000
RRULE:FREQ=YEARLY;BYMONTH=3;BYDAY=-1SU
END:DAYLIGHT
BEGIN:STANDARD
TZOFFSETFROM:+0200
TZOFFSETTO:+0100
TZNAME:CET
DTSTART:19701025T030000
RRULE:FREQ=YEARLY;BYMONTH=10;BYDAY=-1SU
END:STANDARD
END:VTIMEZONE
BEGIN:VEVENT
UID:b691532161a0f5e29dd29dca6f3f4947
SUMMARY:Amatis Trio - Amatis Festival
URL:https://www.concerti.de/termine/amatis-trio-890644/
DTSTART;TZID=Europe/Berlin:20260425T113000
DTEND;TZID=Europe/Berlin:20260425T133000
DESCRIPTION:Interpreten: Amatis Trio \nProgramm: Mozart: Klaviertrio KV 502 (Auszüge)\, Mendelssohn: Klaviertrio Nr. 1 op. 49\, Werke von Piazzolla \nhttps://www.concerti.de/termine/amatis-trio-890644/
LOCATION:Konzertrotunde\, Bad Reichenhall
END:VEVENT
END:VCALENDAR