BEGIN:VCALENDAR
VERSION:2.0
PRODID:concerti//https://www.concerti.de
CALSCALE:GREGORIAN
BEGIN:VTIMEZONE
TZID:Europe/Berlin
X-LIC-LOCATION:Europe/Berlin
BEGIN:DAYLIGHT
TZOFFSETFROM:+0100
TZOFFSETTO:+0200
TZNAME:CEST
DTSTART:19700329T020000
RRULE:FREQ=YEARLY;BYMONTH=3;BYDAY=-1SU
END:DAYLIGHT
BEGIN:STANDARD
TZOFFSETFROM:+0200
TZOFFSETTO:+0100
TZNAME:CET
DTSTART:19701025T030000
RRULE:FREQ=YEARLY;BYMONTH=10;BYDAY=-1SU
END:STANDARD
END:VTIMEZONE
BEGIN:VEVENT
UID:6f31ab8bf1f509ba170479e5fd3bcaf1
SUMMARY:Mayer: Gefängnis ohne Mauern, Schiff ohne Meer - Orbit Festival Köln
URL:https://www.concerti.de/termine/mayer-gefaengnis-ohne-mauern-schiff-ohne-meer-890332/
DTSTART;TZID=Europe/Berlin:20260424T170000
DTEND;TZID=Europe/Berlin:20260424T190000
DESCRIPTION:Interpreten: Ensemble Garage \nhttps://www.concerti.de/termine/mayer-gefaengnis-ohne-mauern-schiff-ohne-meer-890332/
LOCATION:Comedia Theater\, Köln
END:VEVENT
END:VCALENDAR