BEGIN:VCALENDAR
VERSION:2.0
PRODID:concerti//https://www.concerti.de
CALSCALE:GREGORIAN
BEGIN:VTIMEZONE
TZID:Europe/Berlin
X-LIC-LOCATION:Europe/Berlin
BEGIN:DAYLIGHT
TZOFFSETFROM:+0100
TZOFFSETTO:+0200
TZNAME:CEST
DTSTART:19700329T020000
RRULE:FREQ=YEARLY;BYMONTH=3;BYDAY=-1SU
END:DAYLIGHT
BEGIN:STANDARD
TZOFFSETFROM:+0200
TZOFFSETTO:+0100
TZNAME:CET
DTSTART:19701025T030000
RRULE:FREQ=YEARLY;BYMONTH=10;BYDAY=-1SU
END:STANDARD
END:VTIMEZONE
BEGIN:VEVENT
UID:72c80ddb439ea15e931daa3fa580e0ed
SUMMARY:Beethoven: Missa solemnis D-Dur op. 123
URL:https://www.concerti.de/termine/beethoven-missa-solemnis-d-dur-op-123-isarphilharmonie-889949/
DTSTART;TZID=Europe/Berlin:20270703T193000
DTEND;TZID=Europe/Berlin:20270703T213000
DESCRIPTION:Interpreten: Chen Reiss (Sopran)\, Wiebke Lehmkuhl (Alt)\, Julian Prégardien (Tenor)\, Gerald Finley (Bariton)\, Philharmonischer Chor München\, Münchner Philharmoniker\, Klaus Mäkelä (Leitung) \nhttps://www.concerti.de/termine/beethoven-missa-solemnis-d-dur-op-123-isarphilharmonie-889949/
LOCATION:Isarphilharmonie\, Hans-Preißinger-Straße 8\, 81379 München
END:VEVENT
END:VCALENDAR