BEGIN:VCALENDAR
VERSION:2.0
PRODID:concerti//https://www.concerti.de
CALSCALE:GREGORIAN
BEGIN:VTIMEZONE
TZID:Europe/Berlin
X-LIC-LOCATION:Europe/Berlin
BEGIN:DAYLIGHT
TZOFFSETFROM:+0100
TZOFFSETTO:+0200
TZNAME:CEST
DTSTART:19700329T020000
RRULE:FREQ=YEARLY;BYMONTH=3;BYDAY=-1SU
END:DAYLIGHT
BEGIN:STANDARD
TZOFFSETFROM:+0200
TZOFFSETTO:+0100
TZNAME:CET
DTSTART:19701025T030000
RRULE:FREQ=YEARLY;BYMONTH=10;BYDAY=-1SU
END:STANDARD
END:VTIMEZONE
BEGIN:VEVENT
UID:0a643948bedb69e3ab770091d48f82c2
SUMMARY:Avi Avital (Mandoline), Münchner Philharmoniker, John Storgårds (Leitung)
URL:https://www.concerti.de/termine/avi-avital-mandoline-muenchner-philharmoniker-john-storgaards-leitung-isarphilharmonie-889941/
DTSTART;TZID=Europe/Berlin:20270611T193000
DTEND;TZID=Europe/Berlin:20270611T213000
DESCRIPTION:Interpreten: Avi Avital (Mandoline)\, Münchner Philharmoniker\, John Storgårds (Leitung) \nProgramm: Pärt: Orient & Occident\, Say: Mandolinenkonzert\, Sibelius: Suite aus „Belsazars gästabud“ op. 51\, Respighi: Suite aus „Belkis\, Regina di Saba“ \nhttps://www.concerti.de/termine/avi-avital-mandoline-muenchner-philharmoniker-john-storgaards-leitung-isarphilharmonie-889941/
LOCATION:Isarphilharmonie\, Hans-Preißinger-Straße 8\, 81379 München
END:VEVENT
END:VCALENDAR