BEGIN:VCALENDAR
VERSION:2.0
PRODID:concerti//https://www.concerti.de
CALSCALE:GREGORIAN
BEGIN:VTIMEZONE
TZID:Europe/Berlin
X-LIC-LOCATION:Europe/Berlin
BEGIN:DAYLIGHT
TZOFFSETFROM:+0100
TZOFFSETTO:+0200
TZNAME:CEST
DTSTART:19700329T020000
RRULE:FREQ=YEARLY;BYMONTH=3;BYDAY=-1SU
END:DAYLIGHT
BEGIN:STANDARD
TZOFFSETFROM:+0200
TZOFFSETTO:+0100
TZNAME:CET
DTSTART:19701025T030000
RRULE:FREQ=YEARLY;BYMONTH=10;BYDAY=-1SU
END:STANDARD
END:VTIMEZONE
BEGIN:VEVENT
UID:7802bc13c847ed1c46e51115026fe577
SUMMARY:Xenia Puskarz Thomas (Mezzosopran), Mauro Peter (Tenor), Michael Volle (Bass), Philharmonischer Chor München, Münchner Philharmoniker, Andrés Orozco-Estrada (Leitung)
URL:https://www.concerti.de/termine/xenia-puskarz-thomas-mezzosopran-mauro-peter-tenor-michael-volle-bass-philharmonischer-chor-muenchen-muenchner-philharmoniker-andres-orozco-estrada-leitung-isarphilharmonie-889927/
DTSTART;TZID=Europe/Berlin:20270514T193000
DTEND;TZID=Europe/Berlin:20270514T213000
DESCRIPTION:Interpreten: Xenia Puskarz Thomas (Mezzosopran)\, Mauro Peter (Tenor)\, Michael Volle (Bass)\, Philharmonischer Chor München\, Münchner Philharmoniker\, Andrés Orozco-Estrada (Leitung) \nProgramm: Munktell: Valborgsmessoeld op. 24\, R. Strauss: Macbeth op. 23\, Mendelssohn: Die erste Walpurgisnacht op. 60 \nhttps://www.concerti.de/termine/xenia-puskarz-thomas-mezzosopran-mauro-peter-tenor-michael-volle-bass-philharmonischer-chor-muenchen-muenchner-philharmoniker-andres-orozco-estrada-leitung-isarphilharmonie-889927/
LOCATION:Isarphilharmonie\, Hans-Preißinger-Straße 8\, 81379 München
END:VEVENT
END:VCALENDAR