BEGIN:VCALENDAR
VERSION:2.0
PRODID:concerti//https://www.concerti.de
CALSCALE:GREGORIAN
BEGIN:VTIMEZONE
TZID:Europe/Berlin
X-LIC-LOCATION:Europe/Berlin
BEGIN:DAYLIGHT
TZOFFSETFROM:+0100
TZOFFSETTO:+0200
TZNAME:CEST
DTSTART:19700329T020000
RRULE:FREQ=YEARLY;BYMONTH=3;BYDAY=-1SU
END:DAYLIGHT
BEGIN:STANDARD
TZOFFSETFROM:+0200
TZOFFSETTO:+0100
TZNAME:CET
DTSTART:19701025T030000
RRULE:FREQ=YEARLY;BYMONTH=10;BYDAY=-1SU
END:STANDARD
END:VTIMEZONE
BEGIN:VEVENT
UID:c90882d42352c43e36a3965414ed0887
SUMMARY:Jean-Guihen Queyras (Violoncello), Münchner Philharmoniker, Maxim Emelyanychev (Leitung)
URL:https://www.concerti.de/termine/jean-guihen-queyras-violoncello-muenchner-philharmoniker-maxim-emelyanychev-leitung-isarphilharmonie-889906/
DTSTART;TZID=Europe/Berlin:20270410T190000
DTEND;TZID=Europe/Berlin:20270410T210000
DESCRIPTION:Interpreten: Jean-Guihen Queyras (Violoncello)\, Münchner Philharmoniker\, Maxim Emelyanychev (Leitung) \nProgramm: Adams: Shaker Loops\, Schumann: Cellokonzert a-Moll op. 129\, Tschaikowsky: Suite aus „Dornröschen“ op. 66 \nhttps://www.concerti.de/termine/jean-guihen-queyras-violoncello-muenchner-philharmoniker-maxim-emelyanychev-leitung-isarphilharmonie-889906/
LOCATION:Isarphilharmonie\, Hans-Preißinger-Straße 8\, 81379 München
END:VEVENT
END:VCALENDAR