BEGIN:VCALENDAR
VERSION:2.0
PRODID:concerti//https://www.concerti.de
CALSCALE:GREGORIAN
BEGIN:VTIMEZONE
TZID:Europe/Berlin
X-LIC-LOCATION:Europe/Berlin
BEGIN:DAYLIGHT
TZOFFSETFROM:+0100
TZOFFSETTO:+0200
TZNAME:CEST
DTSTART:19700329T020000
RRULE:FREQ=YEARLY;BYMONTH=3;BYDAY=-1SU
END:DAYLIGHT
BEGIN:STANDARD
TZOFFSETFROM:+0200
TZOFFSETTO:+0100
TZNAME:CET
DTSTART:19701025T030000
RRULE:FREQ=YEARLY;BYMONTH=10;BYDAY=-1SU
END:STANDARD
END:VTIMEZONE
BEGIN:VEVENT
UID:d3dd62f4bdbd030b65b0ce5c1a6707d5
SUMMARY:Gabriele Krötz (Flöte), Lisa Outred (Oboe), Alexandra Gruber (Klarinette), Johannes Hofbauer (Fagott), Mia Schwarzfischer (Horn)
URL:https://www.concerti.de/termine/gabriele-kroetz-floete-lisa-outred-oboe-alexandra-gruber-klarinette-johannes-hofbauer-fagott-mia-schwarzfischer-horn-muenchner-kuenstlerhaus-889903/
DTSTART;TZID=Europe/Berlin:20270321T110000
DTEND;TZID=Europe/Berlin:20270321T130000
DESCRIPTION:Interpreten: Gabriele Krötz (Flöte)\, Lisa Outred (Oboe)\, Alexandra Gruber (Klarinette)\, Johannes Hofbauer (Fagott)\, Mia Schwarzfischer (Horn) \nProgramm: Mozart: Ouvertüre zu „Die Zauberflöte“\, Danzi: Bläserquintett B-Dur op. 56/1\, Barber: Summer Music op. 31\, Taffanel: Bläserquintett g-Moll\, Berio: Opus Number Zoo \nhttps://www.concerti.de/termine/gabriele-kroetz-floete-lisa-outred-oboe-alexandra-gruber-klarinette-johannes-hofbauer-fagott-mia-schwarzfischer-horn-muenchner-kuenstlerhaus-889903/
LOCATION:Münchner Künstlerhaus\, Lenbachplatz 8\, 80333 München
END:VEVENT
END:VCALENDAR