BEGIN:VCALENDAR
VERSION:2.0
PRODID:concerti//https://www.concerti.de
CALSCALE:GREGORIAN
BEGIN:VTIMEZONE
TZID:Europe/Berlin
X-LIC-LOCATION:Europe/Berlin
BEGIN:DAYLIGHT
TZOFFSETFROM:+0100
TZOFFSETTO:+0200
TZNAME:CEST
DTSTART:19700329T020000
RRULE:FREQ=YEARLY;BYMONTH=3;BYDAY=-1SU
END:DAYLIGHT
BEGIN:STANDARD
TZOFFSETFROM:+0200
TZOFFSETTO:+0100
TZNAME:CET
DTSTART:19701025T030000
RRULE:FREQ=YEARLY;BYMONTH=10;BYDAY=-1SU
END:STANDARD
END:VTIMEZONE
BEGIN:VEVENT
UID:e95c558fb93aeefdc3404a421c424fef
SUMMARY:Beatrice Rana (Klavier), Münchner Philharmoniker, Nathalie Stutzmann (Leitung)
URL:https://www.concerti.de/termine/beatrice-rana-klavier-muenchner-philharmoniker-nathalie-stutzmann-leitung-isarphilharmonie-889898/
DTSTART;TZID=Europe/Berlin:20270317T193000
DTEND;TZID=Europe/Berlin:20270317T213000
DESCRIPTION:Interpreten: Beatrice Rana (Klavier)\, Münchner Philharmoniker\, Nathalie Stutzmann (Leitung) \nProgramm: Brahms: Akademische Festouvertüre c-Moll op. 80 & Sinfonie Nr. 3 F-Dur op. 90\, Schumann: Klavierkonzert a-Moll op. 54\, Wagner: Ouvertüre zu „Rienzi“ \nhttps://www.concerti.de/termine/beatrice-rana-klavier-muenchner-philharmoniker-nathalie-stutzmann-leitung-isarphilharmonie-889898/
LOCATION:Isarphilharmonie\, Hans-Preißinger-Straße 8\, 81379 München
END:VEVENT
END:VCALENDAR