BEGIN:VCALENDAR
VERSION:2.0
PRODID:concerti//https://www.concerti.de
CALSCALE:GREGORIAN
BEGIN:VTIMEZONE
TZID:Europe/Berlin
X-LIC-LOCATION:Europe/Berlin
BEGIN:DAYLIGHT
TZOFFSETFROM:+0100
TZOFFSETTO:+0200
TZNAME:CEST
DTSTART:19700329T020000
RRULE:FREQ=YEARLY;BYMONTH=3;BYDAY=-1SU
END:DAYLIGHT
BEGIN:STANDARD
TZOFFSETFROM:+0200
TZOFFSETTO:+0100
TZNAME:CET
DTSTART:19701025T030000
RRULE:FREQ=YEARLY;BYMONTH=10;BYDAY=-1SU
END:STANDARD
END:VTIMEZONE
BEGIN:VEVENT
UID:4a427b007b8429f62f49c4a15e13ec6b
SUMMARY:Alexander Melnikov (Klavier), Münchner Philharmoniker, Pablo Heras-Casado (Leitung)
URL:https://www.concerti.de/termine/alexander-melnikov-klavier-muenchner-philharmoniker-pablo-heras-casado-leitung-isarphilharmonie-889890/
DTSTART;TZID=Europe/Berlin:20270306T190000
DTEND;TZID=Europe/Berlin:20270306T210000
DESCRIPTION:Interpreten: Alexander Melnikov (Klavier)\, Münchner Philharmoniker\, Pablo Heras-Casado (Leitung) \nProgramm: Schnittke: Klavierkonzert\, Bruckner: Sinfonie Nr. 2 c-Moll \nhttps://www.concerti.de/termine/alexander-melnikov-klavier-muenchner-philharmoniker-pablo-heras-casado-leitung-isarphilharmonie-889890/
LOCATION:Isarphilharmonie\, Hans-Preißinger-Straße 8\, 81379 München
END:VEVENT
END:VCALENDAR