BEGIN:VCALENDAR
VERSION:2.0
PRODID:concerti//https://www.concerti.de
CALSCALE:GREGORIAN
BEGIN:VTIMEZONE
TZID:Europe/Berlin
X-LIC-LOCATION:Europe/Berlin
BEGIN:DAYLIGHT
TZOFFSETFROM:+0100
TZOFFSETTO:+0200
TZNAME:CEST
DTSTART:19700329T020000
RRULE:FREQ=YEARLY;BYMONTH=3;BYDAY=-1SU
END:DAYLIGHT
BEGIN:STANDARD
TZOFFSETFROM:+0200
TZOFFSETTO:+0100
TZNAME:CET
DTSTART:19701025T030000
RRULE:FREQ=YEARLY;BYMONTH=10;BYDAY=-1SU
END:STANDARD
END:VTIMEZONE
BEGIN:VEVENT
UID:d5f819780099cc51b7091d6c497c0470
SUMMARY:Teresa Zimmermann (Harfe), Mitglieder des Odeon-Jugendsinfonieorchesters &amp; der Münchner Philharmoniker, Julio Doggenweiler Fernández (Leitung), Malte Arkona (Moderation) - Jugendkonzert
URL:https://www.concerti.de/termine/teresa-zimmermann-harfe-mitglieder-des-odeon-jugendsinfonieorchesters-der-muenchner-philharmoniker-julio-doggenweiler-fernandez-leitung-malte-arkona-moderation-isarphilharmonie-889887/
DTSTART;TZID=Europe/Berlin:20270301T183000
DTEND;TZID=Europe/Berlin:20270301T203000
DESCRIPTION:Interpreten: Teresa Zimmermann (Harfe)\, Mitglieder des Odeon-Jugendsinfonieorchesters & der Münchner Philharmoniker\, Julio Doggenweiler Fernández (Leitung)\, Malte Arkona (Moderation) \nProgramm: Márquez: Conga del Fuego Nuevo\, Ginastera: Harfenkonzert op. 25\, Rachmaninow: Sinfonische Tänze op. 45 \nhttps://www.concerti.de/termine/teresa-zimmermann-harfe-mitglieder-des-odeon-jugendsinfonieorchesters-der-muenchner-philharmoniker-julio-doggenweiler-fernandez-leitung-malte-arkona-moderation-isarphilharmonie-889887/
LOCATION:Isarphilharmonie\, Hans-Preißinger-Straße 8\, 81379 München
END:VEVENT
END:VCALENDAR