BEGIN:VCALENDAR
VERSION:2.0
PRODID:concerti//https://www.concerti.de
CALSCALE:GREGORIAN
BEGIN:VTIMEZONE
TZID:Europe/Berlin
X-LIC-LOCATION:Europe/Berlin
BEGIN:DAYLIGHT
TZOFFSETFROM:+0100
TZOFFSETTO:+0200
TZNAME:CEST
DTSTART:19700329T020000
RRULE:FREQ=YEARLY;BYMONTH=3;BYDAY=-1SU
END:DAYLIGHT
BEGIN:STANDARD
TZOFFSETFROM:+0200
TZOFFSETTO:+0100
TZNAME:CET
DTSTART:19701025T030000
RRULE:FREQ=YEARLY;BYMONTH=10;BYDAY=-1SU
END:STANDARD
END:VTIMEZONE
BEGIN:VEVENT
UID:b34769440edabdd9fb13eb1651c35125
SUMMARY:Daniel Lozakovich (Violine), Münchner Philharmoniker, Krzysztof Urbański (Leitung), Malte Arkona (Moderation) - Jugendkonzert
URL:https://www.concerti.de/termine/daniel-lozakovich-violine-muenchner-philharmoniker-krzysztof-urbanski-leitung-malte-arkona-moderation-isarphilharmonie-889872/
DTSTART;TZID=Europe/Berlin:20270122T183000
DTEND;TZID=Europe/Berlin:20270122T203000
DESCRIPTION:Interpreten: Daniel Lozakovich (Violine)\, Münchner Philharmoniker\, Krzysztof Urbański (Leitung)\, Malte Arkona (Moderation) \nProgramm: Schostakowitsch: Scherzo fis-Moll op. 1\, Sibelius: Violinkonzert d-Moll op. 47\, Tschaikowsky: Sinfonie Nr. 6 h-Moll op. 74 „Pathétique“ \nhttps://www.concerti.de/termine/daniel-lozakovich-violine-muenchner-philharmoniker-krzysztof-urbanski-leitung-malte-arkona-moderation-isarphilharmonie-889872/
LOCATION:Isarphilharmonie\, Hans-Preißinger-Straße 8\, 81379 München
END:VEVENT
END:VCALENDAR