BEGIN:VCALENDAR
VERSION:2.0
PRODID:concerti//https://www.concerti.de
CALSCALE:GREGORIAN
BEGIN:VTIMEZONE
TZID:Europe/Berlin
X-LIC-LOCATION:Europe/Berlin
BEGIN:DAYLIGHT
TZOFFSETFROM:+0100
TZOFFSETTO:+0200
TZNAME:CEST
DTSTART:19700329T020000
RRULE:FREQ=YEARLY;BYMONTH=3;BYDAY=-1SU
END:DAYLIGHT
BEGIN:STANDARD
TZOFFSETFROM:+0200
TZOFFSETTO:+0100
TZNAME:CET
DTSTART:19701025T030000
RRULE:FREQ=YEARLY;BYMONTH=10;BYDAY=-1SU
END:STANDARD
END:VTIMEZONE
BEGIN:VEVENT
UID:b66405e224edae52d673d1a17a213b5b
SUMMARY:Münchner Philharmoniker, Andris Nelsons (Leitung)
URL:https://www.concerti.de/termine/muenchner-philharmoniker-andris-nelsons-leitung-isarphilharmonie-889844/
DTSTART;TZID=Europe/Berlin:20261212T190000
DTEND;TZID=Europe/Berlin:20261212T210000
DESCRIPTION:Interpreten: Münchner Philharmoniker\, Andris Nelsons (Leitung) \nProgramm: Reinvere: Maria Anna\, wach\, im Nebenzimmer\, Mahler: Sinfonie Nr. 10 (Auszug)\, Schostakowitsch: Sinfonie Nr. 15 A-Dur op. 141 \nhttps://www.concerti.de/termine/muenchner-philharmoniker-andris-nelsons-leitung-isarphilharmonie-889844/
LOCATION:Isarphilharmonie\, Hans-Preißinger-Straße 8\, 81379 München
END:VEVENT
END:VCALENDAR