BEGIN:VCALENDAR
VERSION:2.0
PRODID:concerti//https://www.concerti.de
CALSCALE:GREGORIAN
BEGIN:VTIMEZONE
TZID:Europe/Berlin
X-LIC-LOCATION:Europe/Berlin
BEGIN:DAYLIGHT
TZOFFSETFROM:+0100
TZOFFSETTO:+0200
TZNAME:CEST
DTSTART:19700329T020000
RRULE:FREQ=YEARLY;BYMONTH=3;BYDAY=-1SU
END:DAYLIGHT
BEGIN:STANDARD
TZOFFSETFROM:+0200
TZOFFSETTO:+0100
TZNAME:CET
DTSTART:19701025T030000
RRULE:FREQ=YEARLY;BYMONTH=10;BYDAY=-1SU
END:STANDARD
END:VTIMEZONE
BEGIN:VEVENT
UID:29dd2bd7138f6ce4472496ee70a7f827
SUMMARY:Händel: Rinaldo
URL:https://www.concerti.de/termine/haendel-rinaldo-theater-an-der-wien-889763/
DTSTART;TZID=Europe/Berlin:20270418T190000
DTEND;TZID=Europe/Berlin:20270418T210000
DESCRIPTION:Interpreten: Carlo Vistoli (Rinaldo)\, Yuriy Mynenko (Goffredo)\, Mélissa Petit (Almirena)\, Kateryna Kasper (Armida)\, Alejandro Baliñas Vieites (Argante)\, Rémy Brès-Feuillet (Eustazio)\, Dominique Visse (Mago cristiano)\, Akademie für Alte Musik Berlin\, Francesco Coeti (Leitung) \nhttps://www.concerti.de/termine/haendel-rinaldo-theater-an-der-wien-889763/
LOCATION:Theater an der Wien\, Linke Wienzeile 6\, 1060 Wien
END:VEVENT
END:VCALENDAR