BEGIN:VCALENDAR
VERSION:2.0
PRODID:concerti//https://www.concerti.de
CALSCALE:GREGORIAN
BEGIN:VTIMEZONE
TZID:Europe/Berlin
X-LIC-LOCATION:Europe/Berlin
BEGIN:DAYLIGHT
TZOFFSETFROM:+0100
TZOFFSETTO:+0200
TZNAME:CEST
DTSTART:19700329T020000
RRULE:FREQ=YEARLY;BYMONTH=3;BYDAY=-1SU
END:DAYLIGHT
BEGIN:STANDARD
TZOFFSETFROM:+0200
TZOFFSETTO:+0100
TZNAME:CET
DTSTART:19701025T030000
RRULE:FREQ=YEARLY;BYMONTH=10;BYDAY=-1SU
END:STANDARD
END:VTIMEZONE
BEGIN:VEVENT
UID:4d3488ff89e2b89268a50bc4b7395a31
SUMMARY:Mozart: Mitridate, re di Ponto (konzertant)
URL:https://www.concerti.de/termine/mozart-mitridate-re-di-ponto-konzertant-theater-an-der-wien-889756/
DTSTART;TZID=Europe/Berlin:20270310T190000
DTEND;TZID=Europe/Berlin:20270310T210000
DESCRIPTION:Interpreten: Ian Koziara (Mitridate)\, Francesca Pia Vitale (Aspasia)\, Chiara Skerath (Sifare)\, Aryeh Nussbaum Cohen (Farnace)\, Florie Valiquette (Ismene)\, Alasdair Kent (Marzio)\, Désirée Giove (Arbate)\, Kammerorchester Basel\, Francesco Corti (Leitung) \nhttps://www.concerti.de/termine/mozart-mitridate-re-di-ponto-konzertant-theater-an-der-wien-889756/
LOCATION:Theater an der Wien\, Linke Wienzeile 6\, 1060 Wien
END:VEVENT
END:VCALENDAR