BEGIN:VCALENDAR
VERSION:2.0
PRODID:concerti//https://www.concerti.de
CALSCALE:GREGORIAN
BEGIN:VTIMEZONE
TZID:Europe/Berlin
X-LIC-LOCATION:Europe/Berlin
BEGIN:DAYLIGHT
TZOFFSETFROM:+0100
TZOFFSETTO:+0200
TZNAME:CEST
DTSTART:19700329T020000
RRULE:FREQ=YEARLY;BYMONTH=3;BYDAY=-1SU
END:DAYLIGHT
BEGIN:STANDARD
TZOFFSETFROM:+0200
TZOFFSETTO:+0100
TZNAME:CET
DTSTART:19701025T030000
RRULE:FREQ=YEARLY;BYMONTH=10;BYDAY=-1SU
END:STANDARD
END:VTIMEZONE
BEGIN:VEVENT
UID:53bb2a148d74894dac215ce80f8afb04
SUMMARY:O&#8217;Brien: The Rocky Horror Show
URL:https://www.concerti.de/termine/obrien-the-rocky-horror-show-tiroler-landestheater-889494/
DTSTART;TZID=Europe/Berlin:20270210T193000
DTEND;TZID=Europe/Berlin:20270210T213000
DESCRIPTION:Interpreten: Hansjörg Sofka (Leitung)\, Paul Spittler (Regie) \nhttps://www.concerti.de/termine/obrien-the-rocky-horror-show-tiroler-landestheater-889494/
LOCATION:Tiroler Landestheater\, Rennweg 2\, 6020 Innsbruck
END:VEVENT
END:VCALENDAR