BEGIN:VCALENDAR
VERSION:2.0
PRODID:concerti//https://www.concerti.de
CALSCALE:GREGORIAN
BEGIN:VTIMEZONE
TZID:Europe/Berlin
X-LIC-LOCATION:Europe/Berlin
BEGIN:DAYLIGHT
TZOFFSETFROM:+0100
TZOFFSETTO:+0200
TZNAME:CEST
DTSTART:19700329T020000
RRULE:FREQ=YEARLY;BYMONTH=3;BYDAY=-1SU
END:DAYLIGHT
BEGIN:STANDARD
TZOFFSETFROM:+0200
TZOFFSETTO:+0100
TZNAME:CET
DTSTART:19701025T030000
RRULE:FREQ=YEARLY;BYMONTH=10;BYDAY=-1SU
END:STANDARD
END:VTIMEZONE
BEGIN:VEVENT
UID:84ec06cbd867e8dce9906b21a2e30a57
SUMMARY:Lully: Le Carnaval (konzertant)
URL:https://www.concerti.de/termine/lully-le-carnaval-konzertant-theater-an-der-wien-889736/
DTSTART;TZID=Europe/Berlin:20270201T190000
DTEND;TZID=Europe/Berlin:20270201T210000
DESCRIPTION:Interpreten: Valeria La Grotta (Première dessus)\, Giuseppina Bridelli (Deuxième dessus)\, Philippe Talbot (Haute-contre)\, Cyril Auvity (Taille)\, Biagio Pizzuti (Première basse)\, Alexandre Baldo (Première basse)\, Chor der I Musici del Gran Principe\, Modo Antiquo\, Federico Maria Sardelli (Leitung) \nhttps://www.concerti.de/termine/lully-le-carnaval-konzertant-theater-an-der-wien-889736/
LOCATION:Theater an der Wien\, Linke Wienzeile 6\, 1060 Wien
END:VEVENT
END:VCALENDAR