BEGIN:VCALENDAR
VERSION:2.0
PRODID:concerti//https://www.concerti.de
CALSCALE:GREGORIAN
BEGIN:VTIMEZONE
TZID:Europe/Berlin
X-LIC-LOCATION:Europe/Berlin
BEGIN:DAYLIGHT
TZOFFSETFROM:+0100
TZOFFSETTO:+0200
TZNAME:CEST
DTSTART:19700329T020000
RRULE:FREQ=YEARLY;BYMONTH=3;BYDAY=-1SU
END:DAYLIGHT
BEGIN:STANDARD
TZOFFSETFROM:+0200
TZOFFSETTO:+0100
TZNAME:CET
DTSTART:19701025T030000
RRULE:FREQ=YEARLY;BYMONTH=10;BYDAY=-1SU
END:STANDARD
END:VTIMEZONE
BEGIN:VEVENT
UID:5945c6bab2ee8ae261c1bfc8ef6edf33
SUMMARY:Rimski-Korsakow: Der goldene Hahn
URL:https://www.concerti.de/termine/rimski-korsakow-der-goldene-hahn-theater-an-der-wien-889720/
DTSTART;TZID=Europe/Berlin:20270126T190000
DTEND;TZID=Europe/Berlin:20270126T210000
DESCRIPTION:Interpreten: Günter Groissböck (König Dodon)\, Alexey Neklyudov (Prinz Gwidon)\, Dmitry Cheblykov (Prinz Afron)\, Alexander Vassiliev (General Polkan)\, Khatuna Mikaberidze (Amelfa)\, Andrei Popov (Der Astrologe)\, Liv Redpath (Die Königin von Schemacha)\, Georgina Fürstenberg (Der goldene Hahn)\, Valentin Uryupin (Leitung)\, Maxim Didenko (Regie) \nhttps://www.concerti.de/termine/rimski-korsakow-der-goldene-hahn-theater-an-der-wien-889720/
LOCATION:Theater an der Wien\, Linke Wienzeile 6\, 1060 Wien
END:VEVENT
END:VCALENDAR